BEGIN:VCALENDAR
PRODID:-//Microsoft Corporation//Outlook 12.0 MIMEDIR//EN
VERSION:2.0
CALSCALE:GREGORIAN
BEGIN:VEVENT
UID: d2641afc-ad09-4ac7-84db-7c9002113e91
SUMMARY:NG orienteerumisvõistlus
DTSTAMP:20250409
DTSTART:20250409
DTEND:20250410
DURATION:P1D
LOCATION:Pürksi
DESCRIPTION: <p><strong>Link: </strong>https://ng.edu.ee/et/sundmuste-kalender/ng-orienteerumisvoistlus</p><p><strong>Hind: </strong></p>
STATUS:CONFIRMED
SEQUENCE:3
X-ALT-DESC;FMTTYPE=text/html:<p><strong>Link: </strong>https://ng.edu.ee/et/sundmuste-kalender/ng-orienteerumisvoistlus</p><p><strong>Hind: </strong></p>
X-MICROSOFT-CDO-BUSYSTATUS:OOF
X-MICROSOFT-CDO-IMPORTANCE:1
X-MICROSOFT-DISALLOW-COUNTER:FALSE
X-MS-OLK-ALLOWEXTERNCHECK:TRUE
X-MS-OLK-CONFTYPE:0
X-MICROSOFT-CDO-ALLDAYEVENT:1
X-MICROSOFT-MSNCALENDAR-ALLDAYEVENT:1
END:VEVENT
END:VCALENDAR