BEGIN:VCALENDAR
PRODID:-//Microsoft Corporation//Outlook 12.0 MIMEDIR//EN
VERSION:2.0
CALSCALE:GREGORIAN
BEGIN:VEVENT
UID: e1cf7cd7-1e96-4906-9505-99b9fd721484
SUMMARY:Jõuluhommik kirikus
DTSTAMP:20241220T103000
DTSTART:20241220T103000
DTEND:20241220T113000
LOCATION:Noarootsi Püha Katariina Kirik
DESCRIPTION: <p><strong>Link: </strong>https://ng.edu.ee/et/sundmuste-kalender/jouluhommik-kirikus</p><p><strong>Hind: </strong></p>
STATUS:CONFIRMED
SEQUENCE:3
X-ALT-DESC;FMTTYPE=text/html:<p><strong>Link: </strong>https://ng.edu.ee/et/sundmuste-kalender/jouluhommik-kirikus</p><p><strong>Hind: </strong></p>
X-MICROSOFT-CDO-BUSYSTATUS:OOF
X-MICROSOFT-CDO-IMPORTANCE:1
X-MICROSOFT-DISALLOW-COUNTER:FALSE
X-MS-OLK-ALLOWEXTERNCHECK:TRUE
X-MS-OLK-CONFTYPE:0
X-MICROSOFT-CDO-ALLDAYEVENT:
X-MICROSOFT-MSNCALENDAR-ALLDAYEVENT:
END:VEVENT
END:VCALENDAR