BEGIN:VCALENDAR
PRODID:-//Microsoft Corporation//Outlook 12.0 MIMEDIR//EN
VERSION:2.0
CALSCALE:GREGORIAN
BEGIN:VEVENT
UID: c2f90f47-2132-4981-88ef-5b4a18324d82
SUMMARY:NG õpilaskonverents
DTSTAMP:20240926T144500
DTSTART:20240926T144500
DTEND:20240926T153500
LOCATION:Pürksi kultuurimaja
DESCRIPTION: <p><strong>Link: </strong>https://ng.edu.ee/et/sundmuste-kalender/ng-opilaskonverents</p><p><strong>Hind: </strong></p>
STATUS:CONFIRMED
SEQUENCE:3
X-ALT-DESC;FMTTYPE=text/html:<p><strong>Link: </strong>https://ng.edu.ee/et/sundmuste-kalender/ng-opilaskonverents</p><p><strong>Hind: </strong></p>
X-MICROSOFT-CDO-BUSYSTATUS:OOF
X-MICROSOFT-CDO-IMPORTANCE:1
X-MICROSOFT-DISALLOW-COUNTER:FALSE
X-MS-OLK-ALLOWEXTERNCHECK:TRUE
X-MS-OLK-CONFTYPE:0
X-MICROSOFT-CDO-ALLDAYEVENT:
X-MICROSOFT-MSNCALENDAR-ALLDAYEVENT:
END:VEVENT
END:VCALENDAR